BEGIN:VCALENDAR
VERSION:2.0
PRODID:-//Eastern Aberdeen Association - ECPv6.15.20//NONSGML v1.0//EN
CALSCALE:GREGORIAN
METHOD:PUBLISH
X-WR-CALNAME:Eastern Aberdeen Association
X-ORIGINAL-URL:https://easternaberdeen.com
X-WR-CALDESC:Events for Eastern Aberdeen Association
REFRESH-INTERVAL;VALUE=DURATION:PT1H
X-Robots-Tag:noindex
X-PUBLISHED-TTL:PT1H
BEGIN:VTIMEZONE
TZID:America/Detroit
BEGIN:DAYLIGHT
TZOFFSETFROM:-0500
TZOFFSETTO:-0400
TZNAME:EDT
DTSTART:20240310T070000
END:DAYLIGHT
BEGIN:STANDARD
TZOFFSETFROM:-0400
TZOFFSETTO:-0500
TZNAME:EST
DTSTART:20241103T060000
END:STANDARD
BEGIN:DAYLIGHT
TZOFFSETFROM:-0500
TZOFFSETTO:-0400
TZNAME:EDT
DTSTART:20250309T070000
END:DAYLIGHT
BEGIN:STANDARD
TZOFFSETFROM:-0400
TZOFFSETTO:-0500
TZNAME:EST
DTSTART:20251102T060000
END:STANDARD
BEGIN:DAYLIGHT
TZOFFSETFROM:-0500
TZOFFSETTO:-0400
TZNAME:EDT
DTSTART:20260308T070000
END:DAYLIGHT
BEGIN:STANDARD
TZOFFSETFROM:-0400
TZOFFSETTO:-0500
TZNAME:EST
DTSTART:20261101T060000
END:STANDARD
END:VTIMEZONE
BEGIN:VEVENT
DTSTART;VALUE=DATE:20250313
DTEND;VALUE=DATE:20250317
DTSTAMP:20260420T001525
CREATED:20240420T003301Z
LAST-MODIFIED:20240420T003301Z
UID:2629-1741824000-1742169599@easternaberdeen.com
SUMMARY:Ohio Beef Expo
DESCRIPTION:The Ohio Beef Expo is the premier event for Ohio’s beef industry attracting over 30\,000 beef industry enthusiasts annually. Each Spring the Ohio Beef Expo provides attendees with a unique experience that brings education\, breed sales\, youth shows\, industry retail opportunities and more together all in one centralized place at the Ohio Expo Center in Columbus\, Ohio.\n\nLearn more.
URL:https://easternaberdeen.com/event/ohio-beef-expo-2025/
LOCATION:Ohio Expo Center\, 717 E 17th Avenue\, Columbus\, OH\, 43211\, United States
CATEGORIES:EAA Sponsored Event
ATTACH;FMTTYPE=image/png:https://easternaberdeen.com/wp-content/uploads/2023/01/ohio-beef-expo.png
END:VEVENT
BEGIN:VEVENT
DTSTART;VALUE=DATE:20250319
DTEND;VALUE=DATE:20250323
DTSTAMP:20260420T001525
CREATED:20260228T215528Z
LAST-MODIFIED:20260228T215621Z
UID:3016-1742342400-1742687999@easternaberdeen.com
SUMMARY:2026 Ohio Beef Expo
DESCRIPTION:The Ohio Beef Expo is the premier event for Ohio’s beef industry attracting over 30\,000 beef industry enthusiasts annually. Each Spring the Ohio Beef Expo provides attendees with a unique experience that brings education\, breed sales\, youth shows\, industry retail opportunities and more together all in one centralized place at the Ohio Expo Center in Columbus\, Ohio.\n\nLearn more.
URL:https://easternaberdeen.com/event/2026-ohio-beef-expo/
LOCATION:Ohio Expo Center\, 717 E 17th Avenue\, Columbus\, OH\, 43211\, United States
CATEGORIES:EAA Sponsored Event
ATTACH;FMTTYPE=image/png:https://easternaberdeen.com/wp-content/uploads/2023/01/ohio-beef-expo.png
END:VEVENT
END:VCALENDAR