BEGIN:VCALENDAR
VERSION:2.0
PRODID:-//Eastern Aberdeen Association - ECPv6.15.20//NONSGML v1.0//EN
CALSCALE:GREGORIAN
METHOD:PUBLISH
X-WR-CALNAME:Eastern Aberdeen Association
X-ORIGINAL-URL:https://easternaberdeen.com
X-WR-CALDESC:Events for Eastern Aberdeen Association
REFRESH-INTERVAL;VALUE=DURATION:PT1H
X-Robots-Tag:noindex
X-PUBLISHED-TTL:PT1H
BEGIN:VTIMEZONE
TZID:America/Detroit
BEGIN:DAYLIGHT
TZOFFSETFROM:-0500
TZOFFSETTO:-0400
TZNAME:EDT
DTSTART:20230312T070000
END:DAYLIGHT
BEGIN:STANDARD
TZOFFSETFROM:-0400
TZOFFSETTO:-0500
TZNAME:EST
DTSTART:20231105T060000
END:STANDARD
BEGIN:DAYLIGHT
TZOFFSETFROM:-0500
TZOFFSETTO:-0400
TZNAME:EDT
DTSTART:20240310T070000
END:DAYLIGHT
BEGIN:STANDARD
TZOFFSETFROM:-0400
TZOFFSETTO:-0500
TZNAME:EST
DTSTART:20241103T060000
END:STANDARD
BEGIN:DAYLIGHT
TZOFFSETFROM:-0500
TZOFFSETTO:-0400
TZNAME:EDT
DTSTART:20250309T070000
END:DAYLIGHT
BEGIN:STANDARD
TZOFFSETFROM:-0400
TZOFFSETTO:-0500
TZNAME:EST
DTSTART:20251102T060000
END:STANDARD
END:VTIMEZONE
BEGIN:VEVENT
DTSTART;VALUE=DATE:20241206
DTEND;VALUE=DATE:20241209
DTSTAMP:20260419T110458
CREATED:20240420T002524Z
LAST-MODIFIED:20240420T002524Z
UID:2619-1733443200-1733702399@easternaberdeen.com
SUMMARY:Hoosier Beef Congress - Junior Show
DESCRIPTION:A premier cattle event for the youth of Indiana to participate at on the first weekend of December. There is a showmanship contest Friday\, a judging contest and an auction Saturday morning before the show gets underway.\n\nEntry deadline is November 1\, 2023.\n\n 	\n\n 	All Junior Show entries must be postmarked by November 1.\n 	Entry fee is $125.00 per head by November 1\, 2023. The fee includes grooming chute space\, tan bark and heated barn space at no additional charge.\n 	Late entries will be accepted online until 12:00 midnight on Saturday\, November 25\, 2023.\n 	Entries postmarked after November 1\, 2023 will be $200.00 per animal.\n 	No refunds.\n 	All exhibitors must be members of IBCA.\n\n\n\nLearn more.
URL:https://easternaberdeen.com/event/hoosier-beef-congress-junior-show/
LOCATION:Indiana Beef Cattle Association\, 8425 Keystone Crossing\, Suite 240\, Indianapolis\, IN\, 46240\, United States
ATTACH;FMTTYPE=image/png:https://easternaberdeen.com/wp-content/uploads/2024/04/hoosier-beef-congress.png
END:VEVENT
END:VCALENDAR