BEGIN:VCALENDAR
VERSION:2.0
PRODID:-//Eastern Aberdeen Association - ECPv6.15.20//NONSGML v1.0//EN
CALSCALE:GREGORIAN
METHOD:PUBLISH
X-ORIGINAL-URL:https://easternaberdeen.com
X-WR-CALDESC:Events for Eastern Aberdeen Association
REFRESH-INTERVAL;VALUE=DURATION:PT1H
X-Robots-Tag:noindex
X-PUBLISHED-TTL:PT1H
BEGIN:VTIMEZONE
TZID:America/Detroit
BEGIN:DAYLIGHT
TZOFFSETFROM:-0500
TZOFFSETTO:-0400
TZNAME:EDT
DTSTART:20230312T070000
END:DAYLIGHT
BEGIN:STANDARD
TZOFFSETFROM:-0400
TZOFFSETTO:-0500
TZNAME:EST
DTSTART:20231105T060000
END:STANDARD
BEGIN:DAYLIGHT
TZOFFSETFROM:-0500
TZOFFSETTO:-0400
TZNAME:EDT
DTSTART:20240310T070000
END:DAYLIGHT
BEGIN:STANDARD
TZOFFSETFROM:-0400
TZOFFSETTO:-0500
TZNAME:EST
DTSTART:20241103T060000
END:STANDARD
BEGIN:DAYLIGHT
TZOFFSETFROM:-0500
TZOFFSETTO:-0400
TZNAME:EDT
DTSTART:20250309T070000
END:DAYLIGHT
BEGIN:STANDARD
TZOFFSETFROM:-0400
TZOFFSETTO:-0500
TZNAME:EST
DTSTART:20251102T060000
END:STANDARD
END:VTIMEZONE
BEGIN:VEVENT
DTSTART;TZID=America/Detroit:20241107T080000
DTEND;TZID=America/Detroit:20241121T170000
DTSTAMP:20260419T124858
CREATED:20240119T014619Z
LAST-MODIFIED:20240724T003727Z
UID:2474-1730966400-1732208400@easternaberdeen.com
SUMMARY:North American International Livestock Exposition
DESCRIPTION:NAILE is the world’s largest purebred livestock exposition\, and the home of the North American Championship Rodeo. Produced by Kentucky Venues. \n\nNAILE accepts entries for 10 major divisions of livestock: beef cattle\, boer goats\, dairy cattle\, dairy goats\, draft horses\, llamas and alpacas\, market swine\, mules and donkeys\, and sheep. Today’s young participants are the future of the livestock industry\, which is why there are a number of contests during NAILE that help prepare the next generation for tomorrow’s breeding challenges. Information about the 2024 NAILE entries will be posted closer to the show. \n\nWe will have educational opportunities. A sponsorship of $100 or more gives you a 2025 membership to the Eastern Aberdeen Association. If you have any sponsorship questions\, contact us at info@easternaberdeen.com. \n\nNovember 15 @ 9:00 AM Junior Show\nNovember 16 @ 9:00 AM Open Show \n\nDeadline TBD. \n\nLearn more. \n\nSign up for a sponsorship\nPlease enable JavaScript in your browser to complete this form.Name: *FirstLastFarm\, ranch or business name: *Your website:Phone: *Email: *Address: *Address Line 1Address Line 2City--- Select state ---AlabamaAlaskaArizonaArkansasCaliforniaColoradoConnecticutDelawareDistrict of ColumbiaFloridaGeorgiaHawaiiIdahoIllinoisIndianaIowaKansasKentuckyLouisianaMaineMarylandMassachusettsMichiganMinnesotaMississippiMissouriMontanaNebraskaNevadaNew HampshireNew JerseyNew MexicoNew YorkNorth CarolinaNorth DakotaOhioOklahomaOregonPennsylvaniaRhode IslandSouth CarolinaSouth DakotaTennesseeTexasUtahVermontVirginiaWashingtonWest VirginiaWisconsinWyomingStateZip CodeNAILE Sponsorship Amount *Sponsoring $100 or more gives you a 2025 Membership to the Eastern Aberdeen Association.Minimum Price: $100.00Total$0.00Stripe Credit Card *Submit
URL:https://easternaberdeen.com/event/north-american-international-livestock-exposition-2/
LOCATION:OH
CATEGORIES:EAA Sponsored Event
ATTACH;FMTTYPE=image/jpeg:https://easternaberdeen.com/wp-content/uploads/2024/01/naile-sponsor.jpg
ORGANIZER;CN="North American International Livestock Exposition":MAILTO:kfecnaile@ksfb.ky.gov
END:VEVENT
END:VCALENDAR