BEGIN:VCALENDAR
VERSION:2.0
PRODID:-//Eastern Aberdeen Association - ECPv6.15.20//NONSGML v1.0//EN
CALSCALE:GREGORIAN
METHOD:PUBLISH
X-ORIGINAL-URL:https://easternaberdeen.com
X-WR-CALDESC:Events for Eastern Aberdeen Association
REFRESH-INTERVAL;VALUE=DURATION:PT1H
X-Robots-Tag:noindex
X-PUBLISHED-TTL:PT1H
BEGIN:VTIMEZONE
TZID:America/Detroit
BEGIN:DAYLIGHT
TZOFFSETFROM:-0500
TZOFFSETTO:-0400
TZNAME:EDT
DTSTART:20230312T070000
END:DAYLIGHT
BEGIN:STANDARD
TZOFFSETFROM:-0400
TZOFFSETTO:-0500
TZNAME:EST
DTSTART:20231105T060000
END:STANDARD
BEGIN:DAYLIGHT
TZOFFSETFROM:-0500
TZOFFSETTO:-0400
TZNAME:EDT
DTSTART:20240310T070000
END:DAYLIGHT
BEGIN:STANDARD
TZOFFSETFROM:-0400
TZOFFSETTO:-0500
TZNAME:EST
DTSTART:20241103T060000
END:STANDARD
BEGIN:DAYLIGHT
TZOFFSETFROM:-0500
TZOFFSETTO:-0400
TZNAME:EDT
DTSTART:20250309T070000
END:DAYLIGHT
BEGIN:STANDARD
TZOFFSETFROM:-0400
TZOFFSETTO:-0500
TZNAME:EST
DTSTART:20251102T060000
END:STANDARD
END:VTIMEZONE
BEGIN:VEVENT
DTSTART;VALUE=DATE:20240913
DTEND;VALUE=DATE:20240920
DTSTAMP:20260419T164505
CREATED:20240415T174843Z
LAST-MODIFIED:20240712T003259Z
UID:2591-1726185600-1726790399@easternaberdeen.com
SUMMARY:The Big E: 2024
DESCRIPTION:Each September\, more than 1.6 million people travel to Eastern States Exposition’s grounds for New England’s grandest fair – The Big E. The 17-day event provides a one of a kind tactile experience in which visitors can celebrate the season and to enjoy the sights\, sounds and flavors of the region. \n\nDeadline August 15 \n\nLearn more. \n\nWe are seeking sponsors for the September 14 show. It is our intention to make it better than ever for our exhibitors. Sponsoring $100 or more gives you a 2025 membership to the Eastern Aberdeen Association. It is a great group of breeders to help with networking and everything American Aberdeen related. If you have any questions\, email us at info@easternaberdeen.com. \n\nPlease enable JavaScript in your browser to complete this form.Name: *FirstLastFarm\, ranch or business name: *Your website:Phone: *Email: *Address: *Address Line 1Address Line 2City--- Select state ---AlabamaAlaskaArizonaArkansasCaliforniaColoradoConnecticutDelawareDistrict of ColumbiaFloridaGeorgiaHawaiiIdahoIllinoisIndianaIowaKansasKentuckyLouisianaMaineMarylandMassachusettsMichiganMinnesotaMississippiMissouriMontanaNebraskaNevadaNew HampshireNew JerseyNew MexicoNew YorkNorth CarolinaNorth DakotaOhioOklahomaOregonPennsylvaniaRhode IslandSouth CarolinaSouth DakotaTennesseeTexasUtahVermontVirginiaWashingtonWest VirginiaWisconsinWyomingStateZip CodeGeneral SponsorshipPrice: $50.0001VIP SponsorshipSponsoring $100 or more gives you a 2025 Membership to the Eastern Aberdeen Association.Minimum Price: $100.00Total amount:$0.00Stripe Credit Card *Submit
URL:https://easternaberdeen.com/event/the-big-e-2024/
LOCATION:Eastern States Exposition\, 1305 Memorial Avenue\, West Springfield\, MA\, 01089\, United States
CATEGORIES:EAA Sponsored Event
ATTACH;FMTTYPE=image/webp:https://easternaberdeen.com/wp-content/uploads/2022/05/the-big-e-e1720736184122.webp
END:VEVENT
END:VCALENDAR