BEGIN:VCALENDAR
VERSION:2.0
PRODID:-//Eastern Aberdeen Association - ECPv6.15.20//NONSGML v1.0//EN
CALSCALE:GREGORIAN
METHOD:PUBLISH
X-ORIGINAL-URL:https://easternaberdeen.com
X-WR-CALDESC:Events for Eastern Aberdeen Association
REFRESH-INTERVAL;VALUE=DURATION:PT1H
X-Robots-Tag:noindex
X-PUBLISHED-TTL:PT1H
BEGIN:VTIMEZONE
TZID:America/Detroit
BEGIN:DAYLIGHT
TZOFFSETFROM:-0500
TZOFFSETTO:-0400
TZNAME:EDT
DTSTART:20230312T070000
END:DAYLIGHT
BEGIN:STANDARD
TZOFFSETFROM:-0400
TZOFFSETTO:-0500
TZNAME:EST
DTSTART:20231105T060000
END:STANDARD
BEGIN:DAYLIGHT
TZOFFSETFROM:-0500
TZOFFSETTO:-0400
TZNAME:EDT
DTSTART:20240310T070000
END:DAYLIGHT
BEGIN:STANDARD
TZOFFSETFROM:-0400
TZOFFSETTO:-0500
TZNAME:EST
DTSTART:20241103T060000
END:STANDARD
BEGIN:DAYLIGHT
TZOFFSETFROM:-0500
TZOFFSETTO:-0400
TZNAME:EDT
DTSTART:20250309T070000
END:DAYLIGHT
BEGIN:STANDARD
TZOFFSETFROM:-0400
TZOFFSETTO:-0500
TZNAME:EST
DTSTART:20251102T060000
END:STANDARD
END:VTIMEZONE
BEGIN:VEVENT
DTSTART;VALUE=DATE:20240808
DTEND;VALUE=DATE:20240819
DTSTAMP:20260419T182818
CREATED:20240415T172313Z
LAST-MODIFIED:20240415T172313Z
UID:2570-1723075200-1724025599@easternaberdeen.com
SUMMARY:Iowa State Fair
DESCRIPTION:The internationally acclaimed Iowa State Fair is the single largest event in the state of Iowa and one of the oldest and largest agricultural and industrial expositions in the country. Annually attracting more than a million people from all over the world\, the Iowa State Fair in Des Moines is Iowa’s great celebration\, a salute to the state’s best in agriculture\, industry\, entertainment and achievement.\n\n\nThis event will have classes.\n\n\n\n\n\n\n\n\n\nDeadline is July 1.\n\n\n\n\nLearn more.
URL:https://easternaberdeen.com/event/iowa-state-fair-2/
LOCATION:Iowa State Fairgrounds\, 3000 E Grand Ave\, Des Moines\, IA\, 50317\, United States
ATTACH;FMTTYPE=image/webp:https://easternaberdeen.com/wp-content/uploads/2022/05/iowa-state-fair.webp
END:VEVENT
BEGIN:VEVENT
DTSTART;VALUE=DATE:20240813
DTEND;VALUE=DATE:20240818
DTSTAMP:20260419T182818
CREATED:20240415T172802Z
LAST-MODIFIED:20240415T172924Z
UID:2573-1723507200-1723939199@easternaberdeen.com
SUMMARY:Wyoming State Fair
DESCRIPTION:The Wyoming State Fair officially started in 1905 in Douglas\, Wyoming. The fair has always been an event that has showcased the culture and heritage of Wyoming and has been a constant thread weaving through the fabric of Wyoming’s history. The Wyoming State Fair has been a gathering point for generations of families\, while providing a quality educational experience and entertainment for all who have attended. The Wyoming State Fair is a celebration of all things Wyoming and showcases our pride in our heritage\, agriculture\, industry\, youth\, entrepreneurs\, artists and more.\n\n\n\n\nAOB Class – Division 605 English Breeds\n\nLearn more.
URL:https://easternaberdeen.com/event/wyoming-state-fair/
LOCATION:Wyoming State Fairgrounds\, 400 W Center Street\, Douglas\, WY\, 82633\, United States
ATTACH;FMTTYPE=image/jpeg:https://easternaberdeen.com/wp-content/uploads/2024/04/wyoming-state-fair.jpeg
END:VEVENT
END:VCALENDAR